BEGIN:VCALENDAR
VERSION:2.0
PRODID:-//Friends of Maybury State Park - ECPv6.15.20//NONSGML v1.0//EN
CALSCALE:GREGORIAN
METHOD:PUBLISH
X-ORIGINAL-URL:https://www.friendsofmaybury.org
X-WR-CALDESC:Events for Friends of Maybury State Park
REFRESH-INTERVAL;VALUE=DURATION:PT1H
X-Robots-Tag:noindex
X-PUBLISHED-TTL:PT1H
BEGIN:VTIMEZONE
TZID:America/Detroit
BEGIN:DAYLIGHT
TZOFFSETFROM:-0500
TZOFFSETTO:-0400
TZNAME:EDT
DTSTART:20250309T070000
END:DAYLIGHT
BEGIN:STANDARD
TZOFFSETFROM:-0400
TZOFFSETTO:-0500
TZNAME:EST
DTSTART:20251102T060000
END:STANDARD
BEGIN:DAYLIGHT
TZOFFSETFROM:-0500
TZOFFSETTO:-0400
TZNAME:EDT
DTSTART:20260308T070000
END:DAYLIGHT
BEGIN:STANDARD
TZOFFSETFROM:-0400
TZOFFSETTO:-0500
TZNAME:EST
DTSTART:20261101T060000
END:STANDARD
BEGIN:DAYLIGHT
TZOFFSETFROM:-0500
TZOFFSETTO:-0400
TZNAME:EDT
DTSTART:20270314T070000
END:DAYLIGHT
BEGIN:STANDARD
TZOFFSETFROM:-0400
TZOFFSETTO:-0500
TZNAME:EST
DTSTART:20271107T060000
END:STANDARD
END:VTIMEZONE
BEGIN:VEVENT
DTSTART;TZID=America/Detroit:20260425T090000
DTEND;TZID=America/Detroit:20260425T120000
DTSTAMP:20260422T183757
CREATED:20241128T195335Z
LAST-MODIFIED:20260219T160702Z
UID:3970-1777107600-1777118400@www.friendsofmaybury.org
SUMMARY:Park Earth Day Clean Up
DESCRIPTION:Join us in helping refresh Maybury State Park with some Spring cleaning for the park.  Call the park office at:  248-349-8390 if you are interested in volunteering for this event. \nMeet at the Trailhead (8 Mile Road Entrance) at 8:45 am. \nWear appropriate footwear and dress according to the weather.  Work gloves and water highly recommended to bring. \nA Recreation Passport is required for all vehicles entering the park. \nRecreation Passports can be purchased when renewing your license plates\, at any State Park Office during regular office hours (8 am – 4:30 pm)\, or at Maybury Park’s self-serve kiosk located on the right immediately past the entrance booth.  For further information on recreation passes\, visit www.michigan.gov/recreationpassport \nChildren under 18 must be accompanied by a parent/guardian.
URL:https://www.friendsofmaybury.org/event/park-earth-day-clean-up/
LOCATION:Trailhead Building\, 42.431853\, -83.540625
END:VEVENT
BEGIN:VEVENT
DTSTART;TZID=America/Detroit:20260501T100000
DTEND;TZID=America/Detroit:20260501T113000
DTSTAMP:20260422T183757
CREATED:20241128T200027Z
LAST-MODIFIED:20260408T171756Z
UID:3974-1777629600-1777635000@www.friendsofmaybury.org
SUMMARY:Wildflowers Hike
DESCRIPTION:Join in seeing some of the Spring wildflowers in Maybury State Park. \nThis event is rain or shine so make sure to dress appropriately for the weather.  Space is limited for this hike and registration is required. \nPlease arrive 15 minutes prior to start time of the hike.  Use the BECK ROAD Entrance. \nClick here:  Participant Wildflower Hike if you are interested in registering for this hike.  If you register and find you are unable to attend\, please email us asap at mayburystateparkfriends@gmail.com  so someone else may attend. \nIf you’d like to Volunteer:  Click here:  Volunteer Wildflower Hike \nA Recreation Passport is required for all vehicles entering the park. \nRecreation Passports can be purchased when renewing your license plates\, at any State Park Office during regular office hours (8 am – 4:30 pm)\, or at Maybury Park’s self-serve kiosk located on the right immediately past the entrance booth.  For further information on recreation passes\, visit www.michigan.gov/recreationpassport
URL:https://www.friendsofmaybury.org/event/wildflowers-hike-2/
LOCATION:Riding Stable Parking Lot
END:VEVENT
BEGIN:VEVENT
DTSTART;TZID=America/Detroit:20260502T100000
DTEND;TZID=America/Detroit:20260502T113000
DTSTAMP:20260422T183757
CREATED:20241128T195909Z
LAST-MODIFIED:20260408T171912Z
UID:3972-1777716000-1777721400@www.friendsofmaybury.org
SUMMARY:Wildflowers Hike
DESCRIPTION:Join in seeing some of the Spring wildflowers in Maybury State Park. \nThis event is rain or shine so make sure to dress appropriately for the weather.  Space is limited for this hike and registration is required. \nPlease arrive 15 minutes prior to the start time of the hike.  Use the BECK ROAD entrance. \nClick here Participant Wildflower Hike   if you are interested in registering for this hike.  If you register and find you are unable to attend\, please email us at mayburystateparkfriends@gmail.com  so someone else is able to attend. \nIf you’d like to Volunteer for this hike \, click here:  Volunteer Wildflower Hike \nA Recreation Passport is required for all vehicles entering the park. \nRecreation Passports can be purchased when renewing your license plates\, at any State Park Office during regular office hours (8 am – 4:30 pm)\, or at Maybury Park’s self-serve kiosk located on the right immediately past the entrance booth.  For further information on recreation passes\, visit www.michigan.gov/recreationpassport
URL:https://www.friendsofmaybury.org/event/wildflowers-hike/
LOCATION:Riding Stable Parking Lot
END:VEVENT
BEGIN:VEVENT
DTSTART;TZID=America/Detroit:20260508T140000
DTEND;TZID=America/Detroit:20260508T150000
DTSTAMP:20260422T183757
CREATED:20251129T172112Z
LAST-MODIFIED:20260401T211915Z
UID:5913-1778248800-1778252400@www.friendsofmaybury.org
SUMMARY:7 Mile Non-Motorized Entrance Ceremony
DESCRIPTION:Friday\, May 8\, 2026 2:00 pm \nRain Date: Friday\, May 15\, 2026 2:00 pm \nJoin the Friends of Maybury State Park\, DNR\, community members and leaders at the official dedication of the Maybury State Park Seven Mile non-motorized entrance. It’s time to celebrate the completion of a project that will help connect non-motorized pathways throughout the region and benefit all of Southeast Michigan. \nEvent will start at 2:00 pm (arrive at 1:45) with a group walk from the East parking lot (Eight Mile Entrance) to the 7 Mile entrance\, followed by a short ceremony\, light refreshments\, and a return walk to the parking lot.  The walk is approximately 2 miles roundtrip and is on paved surfaces. Nearby residents can join event at 2:20 pm at 7 mile. \nNotice: There is no parking on Seven Mile or adjacent neighborhoods. \nAcknowledgements will be given regarding the collaborative efforts that made this entrance a reality. \nQuestions and RSVP NO LATER THAN May 1st:  mayburystateparkfriends@gmail.com \nA Recreation Passport is required for park entry.  For information on recreation passes\, visit www.michigan.gov/recreationpassport. \nAll are welcomed.
URL:https://www.friendsofmaybury.org/event/7-mile-non-motorized-entrance-ceremony/
END:VEVENT
BEGIN:VEVENT
DTSTART;TZID=America/Detroit:20260519T190000
DTEND;TZID=America/Detroit:20260519T203000
DTSTAMP:20260422T183757
CREATED:20250824T214153Z
LAST-MODIFIED:20251022T200247Z
UID:5572-1779217200-1779222600@www.friendsofmaybury.org
SUMMARY:General Membership Meeting
DESCRIPTION:All members are welcome to attend our monthly meetings.  Meetings are the 3rd Tuesday of each month at the park headquarters and begin at 7 pm. \nMembers may join meetings via Zoom. \nNo meeting in the month of December.
URL:https://www.friendsofmaybury.org/event/general-membership-meeting-3/
LOCATION:Park Office\, 49601 Eight Mile Rd\, Northville\, MI\, 48167\, United States
END:VEVENT
BEGIN:VEVENT
DTSTART;TZID=America/Detroit:20260606T100000
DTEND;TZID=America/Detroit:20260606T100000
DTSTAMP:20260422T183757
CREATED:20241128T200823Z
LAST-MODIFIED:20260421T140559Z
UID:3976-1780740000-1780740000@www.friendsofmaybury.org
SUMMARY:Intro To Nature Journaling
DESCRIPTION:Try something new with Nature Journaling. \nJournaling about nature is a fun and creative way to slow down\, focus\, and improve observation skills. Your journal can include writing\, drawing\, mapping\, and listing the details of everyday nature that you notice. \nJoin us for a ‘how-to’ session as we cover the basics and spend some time in nature. Participants will create a small take-home journal. \nProgram will be held rain or shine. Basic supplies will be provided but you are welcome to bring your own. \nPlease arrive 15 minutes prior to start time. Use 8 Mile Road entrance. \nSpace is limited and one must register to participate. Click the below link to register*.  If you register and find you are unable to attend\, please email us asap at mayburyvolunteer@gmail.com  in order to allow someone else to participate. \n*Link will be available closer to Event Date \n*This program is designed for Adults & Teens* \nIf you are interested in Volunteering \, click here. (Link will be available closer to event date) \nA Recreation Passport is required for all vehicles entering the park. \nRecreation Passports can be purchased when renewing your license plates\, at any State Park Office during regular office hours (8 am – 4:30 pm)\, or at Maybury Park’s self-serve kiosk located on the right immediately past the entrance booth. (8 Mile Entrance)  For further information on recreation passes\, visit www.michigan.gov/recreationpassport
URL:https://www.friendsofmaybury.org/event/intro-to-nature-journaling/
LOCATION:Walnut Shelter\, 49601 8 Mile Rd\, Northville\, MI\, 48167
END:VEVENT
BEGIN:VEVENT
DTSTART;TZID=America/Detroit:20260616T190000
DTEND;TZID=America/Detroit:20260616T203000
DTSTAMP:20260422T183757
CREATED:20250824T214246Z
LAST-MODIFIED:20251022T200318Z
UID:5574-1781636400-1781641800@www.friendsofmaybury.org
SUMMARY:General Membership Meeting
DESCRIPTION:All members are welcome to attend our monthly meetings.  Meetings are the 3rd Tuesday of each month at the park headquarters and begin at 7 pm. \nMembers may join meetings via Zoom. \nNo meeting in the month of December.
URL:https://www.friendsofmaybury.org/event/general-membership-meeting-4/
LOCATION:Park Office\, 49601 Eight Mile Rd\, Northville\, MI\, 48167\, United States
END:VEVENT
BEGIN:VEVENT
DTSTART;TZID=America/Detroit:20260706T190000
DTEND;TZID=America/Detroit:20260706T200000
DTSTAMP:20260422T183757
CREATED:20250115T222826Z
LAST-MODIFIED:20260208T185327Z
UID:4382-1783364400-1783368000@www.friendsofmaybury.org
SUMMARY:Music on Monday - Featuring Shawn Riley
DESCRIPTION:Bring your lawn chairs\, blankets\, and picnic and enjoy Monday night music on the Trailhead Shelter lawn at beautiful Maybury State Park.  Free family entertainment.  All vehicles entering the park are required to have a Recreation Passport.  Use the Eight Mile entrance and turn Right at the “T”.  All dogs must be on a 6′ leash. \nTravelin’ Tom’s beverage truck will be on hand with several drink offerings for purchase. \nRecreation Passports can be purchased when renewing your license plates\, at any State Park Office during regular office hours (8 am – 4:30 pm)\, or at Maybury Park’s self-serve kiosk located on the right immediately passed the entrance booth. (8 Mile Entrance)  For further information on recreation passports\, visit Recreation Passport
URL:https://www.friendsofmaybury.org/event/music-on-monday-featuring-shawn-riley/
LOCATION:Trailhead Shelter Lawn
END:VEVENT
BEGIN:VEVENT
DTSTART;TZID=America/Detroit:20260713T190000
DTEND;TZID=America/Detroit:20260713T200000
DTSTAMP:20260422T183757
CREATED:20250115T223137Z
LAST-MODIFIED:20260208T185255Z
UID:4384-1783969200-1783972800@www.friendsofmaybury.org
SUMMARY:Music on Monday - Featuring Nic & Kay Acoustic
DESCRIPTION:Bring your lawn chairs\, blankets\, and picnic and enjoy Monday night music on the Trailhead Shelter lawn at beautiful Maybury State Park.  Free family entertainment.  All vehicles entering the park are required to have a Recreation Passport.  Use Eight Mile Entrance and turn Right at the “T”.  All dogs must be on a 6′ leash. \nTravelin’ Tom’s beverage truck will be on hand with several drink offerings for purchase. \nRecreation Passports can be purchased when renewing your license plates\, at any State Park Office during regular office hours (8 am – 4:30 pm)\, or at Maybury Park’s self-serve kiosk located on the right immediately passed the entrance booth. (8 Mile Entrance) For further information on recreation passports\, visit Recreation Passport
URL:https://www.friendsofmaybury.org/event/music-on-monday-featuring-nic-kay-acoustic/
LOCATION:Trailhead Shelter Lawn
END:VEVENT
BEGIN:VEVENT
DTSTART;TZID=America/Detroit:20260720T190000
DTEND;TZID=America/Detroit:20260720T200000
DTSTAMP:20260422T183757
CREATED:20250115T223322Z
LAST-MODIFIED:20260208T185234Z
UID:4386-1784574000-1784577600@www.friendsofmaybury.org
SUMMARY:Music on Monday - Featuring Laughing Madmen
DESCRIPTION:Bring your lawn chairs\, blankets\, and picnic and enjoy Monday night music on the Trailhead Shelter lawn at beautiful Maybury State Park.  Free family entertainment.  All vehicles entering the park are required to have a Recreation Passport.  Use the Eight Mile entrance and turn Right at the “T”.  All dog’s must be on a 6′ leash. \nTravelin’ Tom’s beverage truck will be on hand with several drink offerings for purchase. \nRecreation Passports can be purchased when renewing your license plates\, at any State Park Office during regular office hours (8 am – 4:30 pm)\, or at Maybury Park’s self-serve kiosk located on the right immediately passed the entrance booth. (8 Mile Entrance) For further information on recreation passports\, visit Recreation Passport
URL:https://www.friendsofmaybury.org/event/music-on-monday-featuring-laughing-madmen/
LOCATION:Trailhead Shelter Lawn
END:VEVENT
BEGIN:VEVENT
DTSTART;TZID=America/Detroit:20260721T190000
DTEND;TZID=America/Detroit:20260721T203000
DTSTAMP:20260422T183757
CREATED:20250824T214453Z
LAST-MODIFIED:20251022T200352Z
UID:5576-1784660400-1784665800@www.friendsofmaybury.org
SUMMARY:General Membership Meeting
DESCRIPTION:All members are welcome to attend our monthly meetings.  Meetings are the 3rd Tuesday of each month at the park headquarters and begin at 7 pm. \nMembers may join meetings via Zoom. \nNo meeting in the month of December.
URL:https://www.friendsofmaybury.org/event/general-membership-meeting-9/
LOCATION:Park Office\, 49601 Eight Mile Rd\, Northville\, MI\, 48167\, United States
END:VEVENT
BEGIN:VEVENT
DTSTART;TZID=America/Detroit:20260727T190000
DTEND;TZID=America/Detroit:20260727T200000
DTSTAMP:20260422T183757
CREATED:20250115T223514Z
LAST-MODIFIED:20260208T185208Z
UID:4390-1785178800-1785182400@www.friendsofmaybury.org
SUMMARY:Music on Monday - Featuring GLAC Indian Carnatic Music
DESCRIPTION:Bring your lawn chairs\, blankets\, and picnic and enjoy Monday night music on the Trailhead Shelter lawn at beautiful Maybury State Park.  Free family entertainment.  All vehicles entering the park are required to have a Recreation Passport.  Use the Eight Mile entrance and turn Right at the “T”.  All dogs must be on a 6′ leash. \nTravelin’ Tom’s beverage truck will be on hand with several drink offerings for purchase. \nRecreation Passports can be purchased when renewing your license plates\, at any State Park Office during regular office hours (8 am – 4:30 pm)\, or at Maybury Park’s self-serve kiosk located on the right immediately passed the entrance booth. (8 Mile Entrance)  For further information on recreation passports\, visit Recreation Passport
URL:https://www.friendsofmaybury.org/event/music-on-monday-featuring-jerry-wu/
LOCATION:Trailhead Shelter Lawn
END:VEVENT
BEGIN:VEVENT
DTSTART;TZID=America/Detroit:20260803T190000
DTEND;TZID=America/Detroit:20260803T200000
DTSTAMP:20260422T183757
CREATED:20250115T223418Z
LAST-MODIFIED:20260208T185134Z
UID:4388-1785783600-1785787200@www.friendsofmaybury.org
SUMMARY:Music on Monday - Featuring Loose Chords
DESCRIPTION:Bring your lawn chairs\, blankets\, and picnic and enjoy Monday night music on the Trailhead Shelter lawn at beautiful Maybury State Park.  Free family entertainment.  All vehicles entering the park are required to have a Recreation Passport.  Use the Eight Mile entrance and turn Right at the “T”.  All dogs must be on a 6′ leash. \nTravelin’ Tom’s beverage truck will be on hand with several drink offerings for purchase. \nRecreation Passports can be purchased when renewing your license plates\, at any State Park Office during regular office hours (8 am – 4:30 pm)\, or at Maybury Park’s self-serve kiosk located on the right immediately passed the entrance booth. (8 Mile Entrance)  For further information on recreation passports\, visit Recreation Passport
URL:https://www.friendsofmaybury.org/event/music-on-monday-featuring-steve-pichan/
LOCATION:Trailhead Shelter Lawn
END:VEVENT
BEGIN:VEVENT
DTSTART;TZID=America/Detroit:20260810T190000
DTEND;TZID=America/Detroit:20260810T200000
DTSTAMP:20260422T183757
CREATED:20250604T210921Z
LAST-MODIFIED:20260208T185030Z
UID:4754-1786388400-1786392000@www.friendsofmaybury.org
SUMMARY:Music on Mondays  - Featuring NHS Vibes (Northville High School)
DESCRIPTION:Bring your lawn chairs\, blankets\, and picnic and enjoy Monday night music on the Trailhead Shelter lawn at beautiful Maybury State Park.  Free family entertainment.  All vehicles entering the park are required to have a Recreation Passport.  Use the Eight Mile Entrance and turn Right at the “T.  All dogs need to be on a 6′ leash. \nTravelin’ Tom’s beverage truck will be on hand with several drink offerings for purchase. \nIn conjunction with the final Music on Monday of 2026\, help us decorate an ornament that will go on the Maybury State Park Holiday Tree this winter.  This event is free for all ages and all supplies are provided.  Decorating will start at 6:30 pm. \nRecreation Passports can be purchased when renewing your license plates\, at any State Park Office during regular office hours (8 am – 4:30 pm)\, or at Maybury Park’s self-serve kiosk located on the right immediately past the entrance booth. (8 Mile Entrance)  For further information on recreation passports\, visit Recreation Passport
URL:https://www.friendsofmaybury.org/event/music-on-mondays-featuring-nhs-vibes-northville-high-school/
LOCATION:Trailhead Shelter Lawn
END:VEVENT
BEGIN:VEVENT
DTSTART;TZID=America/Detroit:20260815T100000
DTEND;TZID=America/Detroit:20260815T113000
DTSTAMP:20260422T183757
CREATED:20250628T223258Z
LAST-MODIFIED:20251022T192751Z
UID:5145-1786788000-1786793400@www.friendsofmaybury.org
SUMMARY:Edible Plant Hike
DESCRIPTION:Join us for an easy hike through the woods and fields of Maybury State Park.  Learn to identify some easily recognizable edible wild plants and know how to identify those plants to avoid.  Some plants can be eaten raw and some need to be cooked.  Learn what you need to know to “eat wild”.  Everyone is welcome.  Please dress for the weather. \nMeet at the Trailhead Building (8 Mile entrance) 15 minutes prior to the start time. \nAll vehicles entering the park are required to have a Recreation Passport. \nRecreation Passports can be purchased when renewing your license plates\, at any State Park Office during regular office hours (8 am – 4:30 pm)\, or at Maybury Park’s self-serve kiosk located on the right immediately past the entrance booth. (8 Mile Entrance)  For further information on recreation passports\, visit Recreation Passport
URL:https://www.friendsofmaybury.org/event/edible-plant-hike/
LOCATION:Trailhead Building\, 42.431853\, -83.540625
END:VEVENT
BEGIN:VEVENT
DTSTART;TZID=America/Detroit:20260818T190000
DTEND;TZID=America/Detroit:20260818T203000
DTSTAMP:20260422T183757
CREATED:20250824T214543Z
LAST-MODIFIED:20251022T200423Z
UID:5578-1787079600-1787085000@www.friendsofmaybury.org
SUMMARY:General Membership Meeting
DESCRIPTION:All members are welcome to attend our monthly meetings.  Meetings are the 3rd Tuesday of each month at the park headquarters and begin at 7 pm. \nMembers may join meetings via Zoom. \nNo meeting in the month of December.
URL:https://www.friendsofmaybury.org/event/general-membership-meeting-10/
LOCATION:Park Office\, 49601 Eight Mile Rd\, Northville\, MI\, 48167\, United States
END:VEVENT
BEGIN:VEVENT
DTSTART;TZID=America/Detroit:20260915T190000
DTEND;TZID=America/Detroit:20260915T203000
DTSTAMP:20260422T183757
CREATED:20250824T214634Z
LAST-MODIFIED:20251022T200447Z
UID:5580-1789498800-1789504200@www.friendsofmaybury.org
SUMMARY:General Membership Meeting
DESCRIPTION:All members are welcome to attend our monthly meetings.  Meetings are the 3rd Tuesday of each month at the park headquarters and begin at 7 pm. \nMembers may join meetings via Zoom. \nNo meeting in the month of December.
URL:https://www.friendsofmaybury.org/event/general-membership-meeting-11/
LOCATION:Park Office\, 49601 Eight Mile Rd\, Northville\, MI\, 48167\, United States
END:VEVENT
BEGIN:VEVENT
DTSTART;TZID=America/Detroit:20260919T100000
DTEND;TZID=America/Detroit:20260919T113000
DTSTAMP:20260422T183757
CREATED:20250506T221446Z
LAST-MODIFIED:20251022T192218Z
UID:4645-1789812000-1789817400@www.friendsofmaybury.org
SUMMARY:History Hike of Maybury State Park
DESCRIPTION:Join in learning how Maybury State Park became a State Park. \nPrior to being Maybury State Park\, the 944 acres were home to a tuberculosis Sanitorium. \nMeet at the Trailhead building and find out all about Maybury from the very beginning. \nThe hike is free\, however\, all vehicles must have a Recreation Passport to enter the park. \nRecreation Passports can be purchased when renewing your license plates\, at any State Park Office during regular office hours (8 am – 4:30 pm)\, or at Maybury Park’s self-serve kiosk located on the right immediately past the entrance booth.  (8 Mile Entrance)  For further information on recreation passes\, visit Recreation Passport
URL:https://www.friendsofmaybury.org/event/history-hike-of-maybury-state-park/
LOCATION:Trailhead Building\, 42.431853\, -83.540625
END:VEVENT
BEGIN:VEVENT
DTSTART;TZID=America/Detroit:20261020T190000
DTEND;TZID=America/Detroit:20261020T203000
DTSTAMP:20260422T183757
CREATED:20250824T214731Z
LAST-MODIFIED:20251022T200518Z
UID:5582-1792522800-1792528200@www.friendsofmaybury.org
SUMMARY:General Membership Meetings
DESCRIPTION:All members are welcome to attend our monthly meetings.  Meetings are the 3rd Tuesday of each month at the park headquarters and begin at 7 pm. \nMembers may join meetings via Zoom. \nNo meeting in the month of December.
URL:https://www.friendsofmaybury.org/event/general-membership-meetings/
LOCATION:Park Office\, 49601 Eight Mile Rd\, Northville\, MI\, 48167\, United States
END:VEVENT
BEGIN:VEVENT
DTSTART;TZID=America/Detroit:20261117T190000
DTEND;TZID=America/Detroit:20261117T203000
DTSTAMP:20260422T183757
CREATED:20250824T214823Z
LAST-MODIFIED:20251022T200012Z
UID:5584-1794942000-1794947400@www.friendsofmaybury.org
SUMMARY:General Membership Meeting
DESCRIPTION:All members are welcome to attend our monthly meetings.  Meetings are the 3rd Tuesday of each month at the park headquarters and begin at 7 pm. \nMembers may join meetings via Zoom. \nNo meeting in the month of December.
URL:https://www.friendsofmaybury.org/event/general-membership-meeting-12/
LOCATION:Park Office\, 49601 Eight Mile Rd\, Northville\, MI\, 48167\, United States
END:VEVENT
BEGIN:VEVENT
DTSTART;TZID=America/Detroit:20261120T173000
DTEND;TZID=America/Detroit:20261120T193000
DTSTAMP:20260422T183757
CREATED:20250924T205822Z
LAST-MODIFIED:20260208T190318Z
UID:5727-1795195800-1795203000@www.friendsofmaybury.org
SUMMARY:Northville Holiday Lighted Parade
DESCRIPTION:The Friends of Maybury will be participating for the 4rd  year in a row in Northville’s Holiday Lighted parade. \nJoin us on Friday\, November 2oth\, in the festivities kicking off the holiday season at the super fun event! \nVolunteers needed to help us carry our banner and walk with us along the route in the parade.  Dress yourself and “get lit” for the holiday season! \nClick here to participate with us:  Link will be provided closer to the date.
URL:https://www.friendsofmaybury.org/event/northville-holiday-lighted-parade-2/
END:VEVENT
BEGIN:VEVENT
DTSTART;TZID=America/Detroit:20261201T000000
DTEND;TZID=America/Detroit:20261230T233000
DTSTAMP:20260422T183757
CREATED:20241105T003224Z
LAST-MODIFIED:20260208T185908Z
UID:3889-1796083200-1798673400@www.friendsofmaybury.org
SUMMARY:Giving Tuesday/Year End Donations
DESCRIPTION:Please consider The Friends of Maybury State Park today and for your Year End Donations.  The Friends of Maybury State Park is run entirely by volunteers and is a 501 (c) (3) non-profit organization \nYour support of Maybury State Park helps to enhance the park\, help fund accessibility options\, support Eagle Scout projects\, fund educational programs\, provide a variety of hikes\, and much more. \nAll donations are tax deductible as allowed by law. \nClick the link below to make a donation. \nGiving Tuesday/Year End Donations \nIf you prefer to mail in a donation\, please mail check to:   Friends of Maybury  49601 Eight Mile Rd  Northville\, MI  48167 \nThank you in advance. \n  \n 
URL:https://www.friendsofmaybury.org/event/giving-tuesday-year-end-donations/
END:VEVENT
END:VCALENDAR