BEGIN:VCALENDAR
VERSION:2.0
PRODID:-//Friends of Maybury State Park - ECPv6.15.20//NONSGML v1.0//EN
CALSCALE:GREGORIAN
METHOD:PUBLISH
X-WR-CALNAME:Friends of Maybury State Park
X-ORIGINAL-URL:https://www.friendsofmaybury.org
X-WR-CALDESC:Events for Friends of Maybury State Park
REFRESH-INTERVAL;VALUE=DURATION:PT1H
X-Robots-Tag:noindex
X-PUBLISHED-TTL:PT1H
BEGIN:VTIMEZONE
TZID:America/Detroit
BEGIN:DAYLIGHT
TZOFFSETFROM:-0500
TZOFFSETTO:-0400
TZNAME:EDT
DTSTART:20240310T070000
END:DAYLIGHT
BEGIN:STANDARD
TZOFFSETFROM:-0400
TZOFFSETTO:-0500
TZNAME:EST
DTSTART:20241103T060000
END:STANDARD
BEGIN:DAYLIGHT
TZOFFSETFROM:-0500
TZOFFSETTO:-0400
TZNAME:EDT
DTSTART:20250309T070000
END:DAYLIGHT
BEGIN:STANDARD
TZOFFSETFROM:-0400
TZOFFSETTO:-0500
TZNAME:EST
DTSTART:20251102T060000
END:STANDARD
BEGIN:DAYLIGHT
TZOFFSETFROM:-0500
TZOFFSETTO:-0400
TZNAME:EDT
DTSTART:20260308T070000
END:DAYLIGHT
BEGIN:STANDARD
TZOFFSETFROM:-0400
TZOFFSETTO:-0500
TZNAME:EST
DTSTART:20261101T060000
END:STANDARD
END:VTIMEZONE
BEGIN:VEVENT
DTSTART;TZID=America/Detroit:20250715T190000
DTEND;TZID=America/Detroit:20250715T203000
DTSTAMP:20260422T212656
CREATED:20241128T201703Z
LAST-MODIFIED:20241128T201804Z
UID:3980-1752606000-1752611400@www.friendsofmaybury.org
SUMMARY:General Membership Monthly Meeting
DESCRIPTION:All members are welcome to attend our monthly meetings.  Meetings are the 3rd Tuesday of each month at the park headquarters and begin at 7 pm.  Members may join meetings via Zoom.  No meeting in the month of December.
URL:https://www.friendsofmaybury.org/event/general-membership-meeting-8/
LOCATION:Park Office\, 49601 Eight Mile Rd\, Northville\, MI\, 48167\, United States
END:VEVENT
BEGIN:VEVENT
DTSTART;TZID=America/Detroit:20250617T190000
DTEND;TZID=America/Detroit:20250617T203000
DTSTAMP:20260422T212656
CREATED:20241019T192656Z
LAST-MODIFIED:20241128T202956Z
UID:3865-1750186800-1750192200@www.friendsofmaybury.org
SUMMARY:General Membership Monthly Meeting
DESCRIPTION:All members are welcome to attend our monthly meetings.  Meetings are the 3rd Tuesday of each month at the park headquarters and begin at 7 pm.  Members may join meetings via Zoom.  No meeting in the month of December.
URL:https://www.friendsofmaybury.org/event/general-membership-monthly-meeting-4/
END:VEVENT
BEGIN:VEVENT
DTSTART;TZID=America/Detroit:20250515T080000
DTEND;TZID=America/Detroit:20250515T140000
DTSTAMP:20260422T212656
CREATED:20250422T222210Z
LAST-MODIFIED:20250506T182252Z
UID:4609-1747296000-1747317600@www.friendsofmaybury.org
SUMMARY:The Friends of Maybury State Park at the Northville Farmers' Market
DESCRIPTION:Stop by and visit us on Thursday\, May 15th\, from 8 am – 2 pm at the Northville Farmers’ Market. \nNew Location:  The corner of & 7 Mile & Northville Rd. \nGet info on the Friends of Maybury State Park events\, programs\, and volunteer opportunities.  Weather permitting\, the Action Track Chair will be on display.  This chair is for those with mobility issues to get out and enjoy Maybury State Park. \nA great way to support the local farmers and community.
URL:https://www.friendsofmaybury.org/event/the-friends-of-maybury-state-park-at-the-northville-farmers-market/
END:VEVENT
END:VCALENDAR