BEGIN:VCALENDAR
VERSION:2.0
PRODID:-//Friends of Maybury State Park - ECPv6.15.20//NONSGML v1.0//EN
CALSCALE:GREGORIAN
METHOD:PUBLISH
X-ORIGINAL-URL:https://www.friendsofmaybury.org
X-WR-CALDESC:Events for Friends of Maybury State Park
REFRESH-INTERVAL;VALUE=DURATION:PT1H
X-Robots-Tag:noindex
X-PUBLISHED-TTL:PT1H
BEGIN:VTIMEZONE
TZID:America/Detroit
BEGIN:DAYLIGHT
TZOFFSETFROM:-0500
TZOFFSETTO:-0400
TZNAME:EDT
DTSTART:20240310T070000
END:DAYLIGHT
BEGIN:STANDARD
TZOFFSETFROM:-0400
TZOFFSETTO:-0500
TZNAME:EST
DTSTART:20241103T060000
END:STANDARD
BEGIN:DAYLIGHT
TZOFFSETFROM:-0500
TZOFFSETTO:-0400
TZNAME:EDT
DTSTART:20250309T070000
END:DAYLIGHT
BEGIN:STANDARD
TZOFFSETFROM:-0400
TZOFFSETTO:-0500
TZNAME:EST
DTSTART:20251102T060000
END:STANDARD
BEGIN:DAYLIGHT
TZOFFSETFROM:-0500
TZOFFSETTO:-0400
TZNAME:EDT
DTSTART:20260308T070000
END:DAYLIGHT
BEGIN:STANDARD
TZOFFSETFROM:-0400
TZOFFSETTO:-0500
TZNAME:EST
DTSTART:20261101T060000
END:STANDARD
END:VTIMEZONE
BEGIN:VEVENT
DTSTART;TZID=America/Detroit:20251011T100000
DTEND;TZID=America/Detroit:20251011T170000
DTSTAMP:20260423T025732
CREATED:20250917T184156Z
LAST-MODIFIED:20250917T184808Z
UID:5677-1760176800-1760202000@www.friendsofmaybury.org
SUMMARY:Maybury Farm Fall Festival
DESCRIPTION:Stop out and see us at the Maybury Farm Festival.  Saturday\, October 11\, 2025 from 10 am – 5 pm.  Maybury Farm’s website will have details of the event.  Maybury Farm Website \nThe Friends of Maybury State Park will be providing volunteers for the pumpkin decorating station. \nIf you are interested in volunteering with us at this fun station\, click here:  Volunteer Pumpkin Decorating Station
URL:https://www.friendsofmaybury.org/event/maybury-farm-fall-festival/
LOCATION:Maybury Farm\, 50165 8 Mile Rd\, Northville\, MI\, 48167\, United States
END:VEVENT
END:VCALENDAR