BEGIN:VCALENDAR
VERSION:2.0
PRODID:-//Friends of Maybury State Park - ECPv6.15.20//NONSGML v1.0//EN
CALSCALE:GREGORIAN
METHOD:PUBLISH
X-WR-CALNAME:Friends of Maybury State Park
X-ORIGINAL-URL:https://www.friendsofmaybury.org
X-WR-CALDESC:Events for Friends of Maybury State Park
REFRESH-INTERVAL;VALUE=DURATION:PT1H
X-Robots-Tag:noindex
X-PUBLISHED-TTL:PT1H
BEGIN:VTIMEZONE
TZID:America/Detroit
BEGIN:DAYLIGHT
TZOFFSETFROM:-0500
TZOFFSETTO:-0400
TZNAME:EDT
DTSTART:20240310T070000
END:DAYLIGHT
BEGIN:STANDARD
TZOFFSETFROM:-0400
TZOFFSETTO:-0500
TZNAME:EST
DTSTART:20241103T060000
END:STANDARD
BEGIN:DAYLIGHT
TZOFFSETFROM:-0500
TZOFFSETTO:-0400
TZNAME:EDT
DTSTART:20250309T070000
END:DAYLIGHT
BEGIN:STANDARD
TZOFFSETFROM:-0400
TZOFFSETTO:-0500
TZNAME:EST
DTSTART:20251102T060000
END:STANDARD
BEGIN:DAYLIGHT
TZOFFSETFROM:-0500
TZOFFSETTO:-0400
TZNAME:EDT
DTSTART:20260308T070000
END:DAYLIGHT
BEGIN:STANDARD
TZOFFSETFROM:-0400
TZOFFSETTO:-0500
TZNAME:EST
DTSTART:20261101T060000
END:STANDARD
END:VTIMEZONE
BEGIN:VEVENT
DTSTART;TZID=America/Detroit:20251206T180000
DTEND;TZID=America/Detroit:20251206T193000
DTSTAMP:20260423T001411
CREATED:20250917T190443Z
LAST-MODIFIED:20251116T223355Z
UID:5683-1765044000-1765049400@www.friendsofmaybury.org
SUMMARY:Owl Prowl Hike
DESCRIPTION:Join the Friends of Maybury State Park as we try to entice resident owls to respond to an artificial call. A 15 minute educational presentation will be given prior to the hike. Space is limited to 120 participants. \nMeet at the Trailhead Building (8 Mile entrance)  Please arrive 20 minutes prior to start time. \nReservations are required.  Click here to sign up:  Owl Prowl Hike Participant  \nRegistration closes Thursday\, December 4\, 2025 \nThis event is currently full.  If you registered and find you are unable to attend\, please email at us mayburystateparkfriends@gmail.com  ASAP and no later than Wednesday\, December 3\, 2025\, so someone else is able to participate.  You may also use the Contact Page on our website to cancel/reach us.  Please do not call the park to register or to cancel your registration. \nDue to safety precautions\, we only have a limited number of spots available and we are unable to add more.\nPlease check back to the sign up link as any cancellations will open up spots for additional participants.\nUnfortunately\, a waitlist is not available for this event.  Walk-ins are also not available for this hike.\nTravelin’ Tom’s beverage truck will be on hand with several warm drink offerings for purchase. \nA Recreation Passport is required for all vehicles entering the park.  Recreation Passports can be purchased when renewing your license plates\, at any State Park Office during regular office hours (8 am – 4:30 pm)\, or at Maybury Park’s self-serve kiosk located on the right immediately past the entrance booth.  (8 Mile Entrance)  For further information on recreation passes\, visit Recreation Passport
URL:https://www.friendsofmaybury.org/event/owl-prowl-hike/
LOCATION:Trailhead Building\, 42.431853\, -83.540625
END:VEVENT
BEGIN:VEVENT
DTSTART;TZID=America/Detroit:20251213T100000
DTEND;TZID=America/Detroit:20251213T110000
DTSTAMP:20260423T001411
CREATED:20251022T205353Z
LAST-MODIFIED:20251022T210302Z
UID:5829-1765620000-1765623600@www.friendsofmaybury.org
SUMMARY:Winter Hike Leader Training
DESCRIPTION:Join us in sharing the beauty of Maybury State Park with others. Our Winter Hike Leader Training equips you with skills to guide hikes and foster appreciation for nature. \nPotential routes include 1 1/2 mile paved trail\, 3 1/2 mile paved trail\, and 2 mile unpaved trail.  Routes may vary due to trail conditions. \nParticipating in the training doesn’t obligate you to lead a hike. Come to the training and enjoy a walk and opportunity to talk with an experienced volunteer to learn if it is a good fit for you. \nPlease arrive 15 minutes prior to start time of training. \nClick here to register:  Hike Leader Training \nA Recreation Passport is required for all vehicles entering the park. \nRecreation Passports can be purchased when renewing your license plates\, at any State Park Office during regular office hours (8 am – 4:30 pm)\, or at Maybury Park’s self-serve kiosk located on the right immediately past the entrance booth. (8 Mile Entrance)  For further information on recreation passes\, visit www.michigan.gov/recreationpassport \n 
URL:https://www.friendsofmaybury.org/event/hike-leader-training-2/
LOCATION:Trailhead Building\, 42.431853\, -83.540625
END:VEVENT
END:VCALENDAR