BEGIN:VCALENDAR
VERSION:2.0
PRODID:-//Friends of Maybury State Park - ECPv6.15.20//NONSGML v1.0//EN
CALSCALE:GREGORIAN
METHOD:PUBLISH
X-ORIGINAL-URL:https://www.friendsofmaybury.org
X-WR-CALDESC:Events for Friends of Maybury State Park
REFRESH-INTERVAL;VALUE=DURATION:PT1H
X-Robots-Tag:noindex
X-PUBLISHED-TTL:PT1H
BEGIN:VTIMEZONE
TZID:America/Detroit
BEGIN:DAYLIGHT
TZOFFSETFROM:-0500
TZOFFSETTO:-0400
TZNAME:EDT
DTSTART:20250309T070000
END:DAYLIGHT
BEGIN:STANDARD
TZOFFSETFROM:-0400
TZOFFSETTO:-0500
TZNAME:EST
DTSTART:20251102T060000
END:STANDARD
BEGIN:DAYLIGHT
TZOFFSETFROM:-0500
TZOFFSETTO:-0400
TZNAME:EDT
DTSTART:20260308T070000
END:DAYLIGHT
BEGIN:STANDARD
TZOFFSETFROM:-0400
TZOFFSETTO:-0500
TZNAME:EST
DTSTART:20261101T060000
END:STANDARD
BEGIN:DAYLIGHT
TZOFFSETFROM:-0500
TZOFFSETTO:-0400
TZNAME:EDT
DTSTART:20270314T070000
END:DAYLIGHT
BEGIN:STANDARD
TZOFFSETFROM:-0400
TZOFFSETTO:-0500
TZNAME:EST
DTSTART:20271107T060000
END:STANDARD
END:VTIMEZONE
BEGIN:VEVENT
DTSTART;TZID=America/Detroit:20260317T190000
DTEND;TZID=America/Detroit:20260317T203000
DTSTAMP:20260422T200913
CREATED:20250824T213700Z
LAST-MODIFIED:20251022T200151Z
UID:5564-1773774000-1773779400@www.friendsofmaybury.org
SUMMARY:General Membership Meeting
DESCRIPTION:All members are welcome to attend our monthly meetings.  Meetings are the 3rd Tuesday of each month at the park headquarters and begin at 7 pm. \nMembers may join meetings via Zoom. \nNo meeting in the month of December.
URL:https://www.friendsofmaybury.org/event/5564/
LOCATION:Park Office\, 49601 Eight Mile Rd\, Northville\, MI\, 48167\, United States
END:VEVENT
BEGIN:VEVENT
DTSTART;TZID=America/Detroit:20260321T193000
DTEND;TZID=America/Detroit:20260321T213000
DTSTAMP:20260422T200913
CREATED:20260208T191106Z
LAST-MODIFIED:20260319T163912Z
UID:6117-1774121400-1774128600@www.friendsofmaybury.org
SUMMARY:Star Gazing Party
DESCRIPTION:Join in a Star Studded Event on Saturday\, March 21\, 2026.  A Star Gazing Event will take place at Maybury State Park! (providing weather & clear skies prevail) \nCheck Website\, Instagram and Facebook for cancellation due to weather conditions.  Cancellation will be posted by 5:45 pm\, Saturday\, March 21st. \nFeatured Observations:  Venus\, Jupiter\, the Moon\, and the Orion Nebula. \nMeet by the baseball fields (East Parking Lot).  Use 8 Mile Road entrance and turn Left at the “T”. \nTravelin’ Tom’s beverage truck will be on hand with delicious drink options for purchase. \nAll ages welcome. \n 
URL:https://www.friendsofmaybury.org/event/star-gazing-party/
LOCATION:Maybury Park Ball Fields
END:VEVENT
END:VCALENDAR